BEGIN:VCALENDAR
VERSION:2.0
PRODID:-//LEOsphere - ECPv6.15.20//NONSGML v1.0//EN
CALSCALE:GREGORIAN
METHOD:PUBLISH
X-ORIGINAL-URL:https://staging.leosphere.net
X-WR-CALDESC:Events for LEOsphere
REFRESH-INTERVAL;VALUE=DURATION:PT1H
X-Robots-Tag:noindex
X-PUBLISHED-TTL:PT1H
BEGIN:VTIMEZONE
TZID:Europe/Amsterdam
BEGIN:DAYLIGHT
TZOFFSETFROM:+0100
TZOFFSETTO:+0200
TZNAME:CEST
DTSTART:20250330T010000
END:DAYLIGHT
BEGIN:STANDARD
TZOFFSETFROM:+0200
TZOFFSETTO:+0100
TZNAME:CET
DTSTART:20251026T010000
END:STANDARD
BEGIN:DAYLIGHT
TZOFFSETFROM:+0100
TZOFFSETTO:+0200
TZNAME:CEST
DTSTART:20260329T010000
END:DAYLIGHT
BEGIN:STANDARD
TZOFFSETFROM:+0200
TZOFFSETTO:+0100
TZNAME:CET
DTSTART:20261025T010000
END:STANDARD
BEGIN:DAYLIGHT
TZOFFSETFROM:+0100
TZOFFSETTO:+0200
TZNAME:CEST
DTSTART:20270328T010000
END:DAYLIGHT
BEGIN:STANDARD
TZOFFSETFROM:+0200
TZOFFSETTO:+0100
TZNAME:CET
DTSTART:20271031T010000
END:STANDARD
END:VTIMEZONE
BEGIN:VEVENT
DTSTART;TZID=Europe/Amsterdam:20260414T100000
DTEND;TZID=Europe/Amsterdam:20260416T180000
DTSTAMP:20260425T164906
CREATED:20260405T061939Z
LAST-MODIFIED:20260406T095352Z
UID:10778-1776160800-1776362400@staging.leosphere.net
SUMMARY:LAAD Security Milipol Brazil 2026
DESCRIPTION:Latin America’s main meeting point for networking and knowledge exchange in public security and defence. Restricted to police forces\, armed forces\, security bodies and professionals. Covers police technology\, special forces equipment\, forensics\, UAV\, C-UAS\, communications\, cybersecurity and critical infrastructure protection. Supported by Brazilian Ministry of Defence\, Ministry of Justice and federal security bodies.
URL:https://staging.leosphere.net/event/laad-security-milipol-brazil-2026/
LOCATION:Transamerica Expo Center\, São Paulo\, São Paulo\, +55 11 5536 9000\, Brazil
CATEGORIES:Forensics & Evidence,Law Enforcement Technology,Operational Technology,UAV & Counter-UAV
END:VEVENT
BEGIN:VEVENT
DTSTART;TZID=Europe/Amsterdam:20260324T090000
DTEND;TZID=Europe/Amsterdam:20260327T170000
DTSTAMP:20260425T164906
CREATED:20260405T061939Z
LAST-MODIFIED:20260405T061939Z
UID:10776-1774342800-1774630800@staging.leosphere.net
SUMMARY:DFRWS EU 2026 — Digital Forensics Research Conference Europe
DESCRIPTION:Flagship academic and practitioner conference on digital forensics. Hybrid event; paper authors must present in person. Themes include digital evidence in hybrid warfare\, drone evidence collection\, deepfake identification\, generative AI for forensic data processing\, legal admissibility of AI-forensic outputs and mobile forensics. Includes Women in Forensics Computing Workshop and Applied Forensics for Crimes Against Children investigators workshop. Co-hosted by Linköping University and Digital Forensics Sweden.
URL:https://staging.leosphere.net/event/dfrws-eu-2026-digital-forensics-research-conference-europe/
CATEGORIES:AI in Policing,Deepfake & Synthetic Media,Forensics & Evidence
END:VEVENT
BEGIN:VEVENT
DTSTART;TZID=Europe/Amsterdam:20260324T090000
DTEND;TZID=Europe/Amsterdam:20260327T170000
DTSTAMP:20260425T164906
CREATED:20260405T061939Z
LAST-MODIFIED:20260406T092357Z
UID:10781-1774342800-1774630800@staging.leosphere.net
SUMMARY:DFRWS EU 2026 — Digital Forensics Research Conference Europe
DESCRIPTION:Flagship academic and practitioner conference on digital forensics. Hybrid event; paper authors must present in person. Themes include digital evidence in hybrid warfare\, drone evidence collection\, deepfake identification\, generative AI for forensic data processing\, legal admissibility of AI-forensic outputs and mobile forensics. Includes Women in Forensics Computing Workshop and Applied Forensics for Crimes Against Children investigators workshop. Co-hosted by Linköping University and Digital Forensics Sweden.
URL:https://staging.leosphere.net/event/dfrws-eu-2026-digital-forensics-research-conference-europe-2/
CATEGORIES:AI in Policing,Deepfake & Synthetic Media,Forensics & Evidence
END:VEVENT
END:VCALENDAR