BEGIN:VCALENDAR
VERSION:2.0
PRODID:-//LEOsphere - ECPv6.15.20//NONSGML v1.0//EN
CALSCALE:GREGORIAN
METHOD:PUBLISH
X-WR-CALNAME:LEOsphere
X-ORIGINAL-URL:https://staging.leosphere.net
X-WR-CALDESC:Events for LEOsphere
REFRESH-INTERVAL;VALUE=DURATION:PT1H
X-Robots-Tag:noindex
X-PUBLISHED-TTL:PT1H
BEGIN:VTIMEZONE
TZID:Europe/Amsterdam
BEGIN:DAYLIGHT
TZOFFSETFROM:+0100
TZOFFSETTO:+0200
TZNAME:CEST
DTSTART:20250330T010000
END:DAYLIGHT
BEGIN:STANDARD
TZOFFSETFROM:+0200
TZOFFSETTO:+0100
TZNAME:CET
DTSTART:20251026T010000
END:STANDARD
BEGIN:DAYLIGHT
TZOFFSETFROM:+0100
TZOFFSETTO:+0200
TZNAME:CEST
DTSTART:20260329T010000
END:DAYLIGHT
BEGIN:STANDARD
TZOFFSETFROM:+0200
TZOFFSETTO:+0100
TZNAME:CET
DTSTART:20261025T010000
END:STANDARD
BEGIN:DAYLIGHT
TZOFFSETFROM:+0100
TZOFFSETTO:+0200
TZNAME:CEST
DTSTART:20270328T010000
END:DAYLIGHT
BEGIN:STANDARD
TZOFFSETFROM:+0200
TZOFFSETTO:+0100
TZNAME:CET
DTSTART:20271031T010000
END:STANDARD
END:VTIMEZONE
BEGIN:VEVENT
DTSTART;TZID=Europe/Amsterdam:20260520T090000
DTEND;TZID=Europe/Amsterdam:20260522T150000
DTSTAMP:20260425T152011
CREATED:20260405T061954Z
LAST-MODIFIED:20260406T092412Z
UID:10790-1779267600-1779462000@staging.leosphere.net
SUMMARY:GPEC 2026 — General Police Equipment Exhibition & Conference
DESCRIPTION:Europe’s largest closed specialised trade fair for police and security authorities. 20\,000 m² exhibition with 470+ exhibitors from 30+ countries. Exclusively accessible to law enforcement and security authority professionals. Covers all areas of law enforcement and homeland security: forensics\, ICT\, AI\, drones and counter-drone\, biometrics\, communications\, body armour\, vehicles\, surveillance and operational technology. Includes drone flight and testing zones\, specialist conferences and service working group meetings. Under patronage of German Federal Minister of Interior.
URL:https://staging.leosphere.net/event/gpec-2026-general-police-equipment-exhibition-conference/
LOCATION:Leipziger Messe\, Leipzig\, Saxony\, +49 341 678 0\, Seehausener Allee 1
CATEGORIES:AI in Policing,Biometrics & FR,Forensics & Evidence,Law Enforcement Technology,Operational Technology,UAV & Counter-UAV
END:VEVENT
BEGIN:VEVENT
DTSTART;TZID=Europe/Amsterdam:20260623T090000
DTEND;TZID=Europe/Amsterdam:20260625T170000
DTSTAMP:20260425T152011
CREATED:20260403T105828Z
LAST-MODIFIED:20260406T092427Z
UID:10639-1782205200-1782406800@staging.leosphere.net
SUMMARY:World Police Summit 2026
DESCRIPTION:5th edition of the global law enforcement technology summit. Organised by Dubai Police under patronage of the UAE Vice President and Prime Minister. 300+ speakers\, 922+ global leaders\, 85+ Chiefs of Police and 170+ exhibitors from 110+ countries. 12 specialised tracks covering AI\, biometrics\, counter-drone\, cybercrime\, road safety\, forensics and digital policing. The world’s largest gathering of law enforcement professionals for technology and innovation.
URL:https://staging.leosphere.net/event/world-police-summit-2026/
LOCATION:Dubai World Trade Centre\, Sheikh Zayed Road\, Dubai\, United Arab Emirates
CATEGORIES:AI in Policing,Biometrics & FR,Forensics & Evidence,Law Enforcement Technology,UAV & Counter-UAV
END:VEVENT
BEGIN:VEVENT
DTSTART;TZID=Europe/Amsterdam:20260922T090000
DTEND;TZID=Europe/Amsterdam:20260925T180000
DTSTAMP:20260425T152011
CREATED:20260403T105828Z
LAST-MODIFIED:20260406T092457Z
UID:10642-1790067600-1790359200@staging.leosphere.net
SUMMARY:Security Essen 2026
DESCRIPTION:World’s leading trade fair for civil security\, fire protection and safety. Biennial event at Messe Essen. 500+ exhibitors from 36 nations\, 20\,000+ visitors from 86 nations. 2026 edition adds dedicated Cyber Security Conference alongside perimeter protection\, video surveillance\, access control\, forensics\, fire and intrusion detection. Civil protection and civil defence are added focus areas. 86% of exhibitors and 90% of visitors from 2024 confirmed for 2026.
URL:https://staging.leosphere.net/event/security-essen-2026/
LOCATION:Messe Essen\, Norbertstraße 2\, Essen\, 45131\, Germany
CATEGORIES:Biometrics & FR,Data & Cloud,Forensics & Evidence,Operational Technology
END:VEVENT
BEGIN:VEVENT
DTSTART;TZID=Europe/Amsterdam:20261020T090000
DTEND;TZID=Europe/Amsterdam:20261022T180000
DTSTAMP:20260425T152011
CREATED:20260403T105843Z
LAST-MODIFIED:20260406T092457Z
UID:10649-1792486800-1792692000@staging.leosphere.net
SUMMARY:Milipol Qatar 2026
DESCRIPTION:16th edition of the global homeland security and safety event for the Middle East. Biennial event under the authority of the Emir of Qatar and Ministry of Interior. 255+ exhibitors from 26 countries; 14\,500+ professional visitors from 63 countries; 360 official delegates from 42 countries. Covers law enforcement\, cybersecurity\, civil defence\, anti-terrorism\, border and transport security\, counter-UAS and critical infrastructure protection.
URL:https://staging.leosphere.net/event/milipol-qatar-2026/
LOCATION:Doha Exhibition and Convention Centre\, Al Corniche Street\, Doha\, Qatar
CATEGORIES:AI in Policing,Forensics & Evidence,Law Enforcement Technology,Operational Technology,UAV & Counter-UAV
END:VEVENT
BEGIN:VEVENT
DTSTART;TZID=Europe/Amsterdam:20261203T090000
DTEND;TZID=Europe/Amsterdam:20261204T180000
DTSTAMP:20260425T152011
CREATED:20260405T062054Z
LAST-MODIFIED:20260408T135606Z
UID:10808-1796288400-1796407200@staging.leosphere.net
SUMMARY:Homeland Security Expo — Sweden 2026
DESCRIPTION:Nordic region’s only dedicated expo on policing\, defence\, homeland security\, forensics\, drones and anti-drone systems. Gathers researchers\, technology developers and senior officials from Nordic police forces and international law enforcement to discuss surveillance\, cyber\, rescue and communications technology challenges.
URL:https://staging.leosphere.net/event/homeland-security-expo-sweden-2026/
CATEGORIES:Command & Control,Defence & Security,Forensics & Evidence,Law Enforcement Technology,UAV & Counter-UAV
END:VEVENT
END:VCALENDAR